BEGIN:VCALENDAR
VERSION:2.0
PRODID:-//Explora UNAB - ECPv6.15.9//NONSGML v1.0//EN
CALSCALE:GREGORIAN
METHOD:PUBLISH
X-ORIGINAL-URL:https://explora.unab.cl
X-WR-CALDESC:Eventos para Explora UNAB
REFRESH-INTERVAL;VALUE=DURATION:PT1H
X-Robots-Tag:noindex
X-PUBLISHED-TTL:PT1H
BEGIN:VTIMEZONE
TZID:America/Santiago
BEGIN:STANDARD
TZOFFSETFROM:-0300
TZOFFSETTO:-0400
TZNAME:-04
DTSTART:20240407T030000
END:STANDARD
BEGIN:DAYLIGHT
TZOFFSETFROM:-0400
TZOFFSETTO:-0300
TZNAME:-03
DTSTART:20240908T040000
END:DAYLIGHT
BEGIN:STANDARD
TZOFFSETFROM:-0300
TZOFFSETTO:-0400
TZNAME:-04
DTSTART:20250406T030000
END:STANDARD
BEGIN:DAYLIGHT
TZOFFSETFROM:-0400
TZOFFSETTO:-0300
TZNAME:-03
DTSTART:20250907T040000
END:DAYLIGHT
BEGIN:STANDARD
TZOFFSETFROM:-0300
TZOFFSETTO:-0400
TZNAME:-04
DTSTART:20260405T030000
END:STANDARD
BEGIN:DAYLIGHT
TZOFFSETFROM:-0400
TZOFFSETTO:-0300
TZNAME:-03
DTSTART:20260906T040000
END:DAYLIGHT
END:VTIMEZONE
BEGIN:VEVENT
DTSTART;TZID=America/Santiago:20250924T090000
DTEND;TZID=America/Santiago:20250925T180000
DTSTAMP:20260423T105640
CREATED:20250429T133504Z
LAST-MODIFIED:20250429T133504Z
UID:29047-1758704400-1758823200@explora.unab.cl
SUMMARY:Siad Santiago
DESCRIPTION:¡Acércate a nuestro stand! conoce más de nuestras carreras\, conversa con alumnos de la universidad\, simula tus beneficios y descubre si la UNAB es tu universidad.
URL:https://explora.unab.cl/actividad/siad-santiago/
LOCATION:Centro Cultural Estación Mapocho\, Plaza de la Cultura sin número ex estación de trenes Metro Cal y Canto\, 8320000\, Región Metropolitana\, Santiago\, Metropolitana\, Chile
CATEGORIES:SIAD
END:VEVENT
END:VCALENDAR