BEGIN:VCALENDAR
VERSION:2.0
PRODID:-//Explora UNAB - ECPv6.15.20//NONSGML v1.0//EN
CALSCALE:GREGORIAN
METHOD:PUBLISH
X-ORIGINAL-URL:https://explora.unab.cl
X-WR-CALDESC:Eventos para Explora UNAB
REFRESH-INTERVAL;VALUE=DURATION:PT1H
X-Robots-Tag:noindex
X-PUBLISHED-TTL:PT1H
BEGIN:VTIMEZONE
TZID:America/Santiago
BEGIN:STANDARD
TZOFFSETFROM:-0300
TZOFFSETTO:-0400
TZNAME:-04
DTSTART:20240407T030000
END:STANDARD
BEGIN:DAYLIGHT
TZOFFSETFROM:-0400
TZOFFSETTO:-0300
TZNAME:-03
DTSTART:20240908T040000
END:DAYLIGHT
BEGIN:STANDARD
TZOFFSETFROM:-0300
TZOFFSETTO:-0400
TZNAME:-04
DTSTART:20250406T030000
END:STANDARD
BEGIN:DAYLIGHT
TZOFFSETFROM:-0400
TZOFFSETTO:-0300
TZNAME:-03
DTSTART:20250907T040000
END:DAYLIGHT
BEGIN:STANDARD
TZOFFSETFROM:-0300
TZOFFSETTO:-0400
TZNAME:-04
DTSTART:20260405T030000
END:STANDARD
BEGIN:DAYLIGHT
TZOFFSETFROM:-0400
TZOFFSETTO:-0300
TZNAME:-03
DTSTART:20260906T040000
END:DAYLIGHT
END:VTIMEZONE
BEGIN:VEVENT
DTSTART;TZID=America/Santiago:20251008T090000
DTEND;TZID=America/Santiago:20251009T160000
DTSTAMP:20260425T084538
CREATED:20250429T134629Z
LAST-MODIFIED:20250429T134629Z
UID:29055-1759914000-1760025600@explora.unab.cl
SUMMARY:Siad Concepción
DESCRIPTION:¡Acércate a nuestro stand! conoce más de nuestras carreras\, conversa con alumnos de la universidad\, simula tus beneficios y descubre si la UNAB es tu universidad.
URL:https://explora.unab.cl/actividad/siad-concepcion/
LOCATION:Centro de Eventos Suractivo\, Cádiz 3593\, Hualpén\, Bío Bío\, Concepción\, Del Bío Bío\, Chile
CATEGORIES:SIAD
END:VEVENT
BEGIN:VEVENT
DTSTART;TZID=America/Santiago:20251010T090000
DTEND;TZID=America/Santiago:20251010T140000
DTSTAMP:20260425T084538
CREATED:20250430T152634Z
LAST-MODIFIED:20250804T143741Z
UID:29079-1760086800-1760104800@explora.unab.cl
SUMMARY:5º Olimpiadas de Química
DESCRIPTION:Participa en la 5º versión de las olimpiadas de química. La actividad organizada entre la Facultad de Ciencias Exactas y la Dirección de Admisión de la Universidad Andrés Bello\, tiene como objetivo\, acerca a esta ciencia aplicada a estudiantes de educación media. \nRecuerda que puedes revisar toda la información\, bases y temarios acá: 5º Olimpidas de química
URL:https://explora.unab.cl/actividad/quintas-olimpiadas-de-quimica/
LOCATION:UNAB\, Todas las sedes
CATEGORIES:Interescolares
END:VEVENT
BEGIN:VEVENT
DTSTART;TZID=America/Santiago:20251015T090000
DTEND;TZID=America/Santiago:20251015T130000
DTSTAMP:20260425T084538
CREATED:20250430T141359Z
LAST-MODIFIED:20250430T141359Z
UID:29075-1760518800-1760533200@explora.unab.cl
SUMMARY:Explora la UNAB Santiago
DESCRIPTION:¡Reserva la fecha! No te pierdas una nueva versión de nuestra tradicional casa abierta. Inscríbete junto a tu curso y ven a conocer la UNAB\, su campus y carreras a través de talleres prácticos\, que te acercarán a tu vocación. \nVive una experiencia dinámica\, con feria y actividades que no sólo te acercarán a tu futura carrera\, sino que también te harán vivir una muy buena jornada.
URL:https://explora.unab.cl/actividad/explora-la-unab-santiago-3/
CATEGORIES:Explora la UNAB
END:VEVENT
BEGIN:VEVENT
DTSTART;VALUE=DATE:20251018
DTEND;VALUE=DATE:20251020
DTSTAMP:20260425T084538
CREATED:20251016T214057Z
LAST-MODIFIED:20251016T214057Z
UID:30582-1760749200-1760835599@explora.unab.cl
SUMMARY:2º Interescolar de Robótica e IA
DESCRIPTION:El 2º Interescolar de Robótica e Inteligencia Artificial invita a estudiantes de 3° y 4° medio a explorar el mundo STEM mediante proyectos prácticos en Robótica e IA\, potenciando su creatividad\, pensamiento crítico y resolución de problemas. \nInformación e inscripciones en este enlace.
URL:https://explora.unab.cl/actividad/2o-interescolar-de-robotica-e-ia/
CATEGORIES:Explora la UNAB,Interescolares
END:VEVENT
BEGIN:VEVENT
DTSTART;TZID=America/Santiago:20251018T090000
DTEND;TZID=America/Santiago:20251018T120000
DTSTAMP:20260425T084538
CREATED:20251016T213111Z
LAST-MODIFIED:20251017T175131Z
UID:30579-1760778000-1760788800@explora.unab.cl
SUMMARY:Taller 0 de Arquitectura - Viña del Mar
DESCRIPTION:El Taller 0 invita a estudiantes de 4° medio a descubrir su talento en Arquitectura\, participando en dos sesiones con ejercicios creativos y manuales que muestran la dinámica real de la carrera. \nEdificio Rocamar – calle 13 norte 766\, Viña del Mar
URL:https://explora.unab.cl/actividad/taller-0-de-arquitectura-vina-del-mar/
CATEGORIES:Explora la UNAB
END:VEVENT
BEGIN:VEVENT
DTSTART;TZID=America/Santiago:20251021T100000
DTEND;TZID=America/Santiago:20251021T160000
DTSTAMP:20260425T084538
CREATED:20250429T140106Z
LAST-MODIFIED:20250429T140106Z
UID:29057-1761040800-1761062400@explora.unab.cl
SUMMARY:Siad Machalí
DESCRIPTION:¡Acércate a nuestro stand! conoce más de nuestras carreras\, conversa con alumnos de la universidad\, simula tus beneficios y descubre si la UNAB es tu universidad.
URL:https://explora.unab.cl/actividad/siad-machali-2/
LOCATION:Polideportivo Guillermo Chacón\, Los Almendros 301\, Machalí\, Machalí\, Chile
CATEGORIES:SIAD
END:VEVENT
BEGIN:VEVENT
DTSTART;TZID=America/Santiago:20251022T090000
DTEND;TZID=America/Santiago:20251023T160000
DTSTAMP:20260425T084538
CREATED:20250429T140157Z
LAST-MODIFIED:20250429T140157Z
UID:29059-1761123600-1761235200@explora.unab.cl
SUMMARY:Siad Machalí
DESCRIPTION:¡Acércate a nuestro stand! conoce más de nuestras carreras\, conversa con alumnos de la universidad\, simula tus beneficios y descubre si la UNAB es tu universidad.
URL:https://explora.unab.cl/actividad/siad-machali-3/
LOCATION:Polideportivo Guillermo Chacón\, Los Almendros 301\, Machalí\, Machalí\, Chile
CATEGORIES:SIAD
END:VEVENT
BEGIN:VEVENT
DTSTART;TZID=America/Santiago:20251025T090000
DTEND;TZID=America/Santiago:20251025T120000
DTSTAMP:20260425T084538
CREATED:20251017T175243Z
LAST-MODIFIED:20251017T175243Z
UID:30587-1761382800-1761393600@explora.unab.cl
SUMMARY:Taller 0 de Arquitectura - Viña del Mar
DESCRIPTION:El Taller 0 invita a estudiantes de 4° medio a descubrir su talento en Arquitectura\, participando en dos sesiones con ejercicios creativos y manuales que muestran la dinámica real de la carrera. \nEdificio Rocamar – calle 13 norte 766\, Viña del Mar
URL:https://explora.unab.cl/actividad/taller-0-de-arquitectura-vina-del-mar-2/
CATEGORIES:Explora la UNAB
END:VEVENT
BEGIN:VEVENT
DTSTART;TZID=America/Santiago:20251025T090000
DTEND;TZID=America/Santiago:20251025T120000
DTSTAMP:20260425T084538
CREATED:20251017T181012Z
LAST-MODIFIED:20251017T181012Z
UID:30589-1761382800-1761393600@explora.unab.cl
SUMMARY:Workshop “Ruta del Emprendedor y Finanzas Personales” - Viña del Mar
DESCRIPTION:Descubre cómo potenciar tus ideas y tomar el control de tus finanzas en el workshop gratuito “Ruta del Emprendedor y Finanzas Personales” de la UNAB Viña del Mar. Aprende herramientas prácticas para alcanzar independencia y seguridad económica. \nMás información e inscripciones en el siguiente enlace.
URL:https://explora.unab.cl/actividad/workshop-ruta-del-emprendedor-y-finanzas-personales-vina-del-mar/
LOCATION:UNAB Viña del Mar\, Quillota 980\, Viña del Mar\, Chile
CATEGORIES:Explora la UNAB
END:VEVENT
BEGIN:VEVENT
DTSTART;TZID=America/Santiago:20251125T150000
DTEND;TZID=America/Santiago:20251125T170000
DTSTAMP:20260425T084538
CREATED:20251110T143103Z
LAST-MODIFIED:20251110T143103Z
UID:30695-1764082800-1764090000@explora.unab.cl
SUMMARY:Gato por Liebre Lab - Concurso de creatividad publicitaria
DESCRIPTION:¿Te imaginas enfrentarte al reto de una marca real?\nEn esta experiencia única\, podrás desarrollar una propuesta de comunicación innovadora\, efectiva y atractiva\, usando metodologías que aplican los profesionales del área.\nInscríbete en Gato por Liebre Lab y pon a prueba tu creatividad y tus ideas como futuro publicista.\nGato por Liebre Lab\, es un concurso de creatividad publicitaria para duplas de estudiantes secundarios\, organizado por la Escuela de Publicidad de la Universidad Andrés Bello en Santiago de Chile.\n\nEsta versión\, está inspirada en el concurso internacional Gato por Liebre\, uno de los más antiguos de Chile\, en donde participan estudiantes de publicidad de varios países de la región.\n\n\nFrente a un desafío planteado por una marca\, las duplas generan una propuesta de comunicación atractiva y adecuada a las necesidades expuestas.\n\n\n\nEs una oportunidad para trabajar con metodologías creativas y acercarse al mundo del ejercicio publicitario.\n\n\nInscríbete aquí
URL:https://explora.unab.cl/actividad/gato-por-liebre-lab-concurso-de-creatividad-publicitaria/
LOCATION:UNAB Campus Creativo\, Purísima 225\, Santiago
CATEGORIES:Explora la UNAB
ATTACH;FMTTYPE=image/webp:https://unabwps3.s3.amazonaws.com/exploraunab/wp-content/uploads/2024/10/16113159/I-Interescolar-de-Campus-Creativo00120-800x533-1.webp
END:VEVENT
END:VCALENDAR