BEGIN:VCALENDAR
VERSION:2.0
PRODID:-//Explora UNAB - ECPv6.15.9//NONSGML v1.0//EN
CALSCALE:GREGORIAN
METHOD:PUBLISH
X-ORIGINAL-URL:https://explora.unab.cl
X-WR-CALDESC:Eventos para Explora UNAB
REFRESH-INTERVAL;VALUE=DURATION:PT1H
X-Robots-Tag:noindex
X-PUBLISHED-TTL:PT1H
BEGIN:VTIMEZONE
TZID:America/Santiago
BEGIN:STANDARD
TZOFFSETFROM:-0300
TZOFFSETTO:-0400
TZNAME:-04
DTSTART:20230402T030000
END:STANDARD
BEGIN:DAYLIGHT
TZOFFSETFROM:-0400
TZOFFSETTO:-0300
TZNAME:-03
DTSTART:20230903T040000
END:DAYLIGHT
BEGIN:STANDARD
TZOFFSETFROM:-0300
TZOFFSETTO:-0400
TZNAME:-04
DTSTART:20240407T030000
END:STANDARD
BEGIN:DAYLIGHT
TZOFFSETFROM:-0400
TZOFFSETTO:-0300
TZNAME:-03
DTSTART:20240908T040000
END:DAYLIGHT
BEGIN:STANDARD
TZOFFSETFROM:-0300
TZOFFSETTO:-0400
TZNAME:-04
DTSTART:20250406T030000
END:STANDARD
BEGIN:DAYLIGHT
TZOFFSETFROM:-0400
TZOFFSETTO:-0300
TZNAME:-03
DTSTART:20250907T040000
END:DAYLIGHT
END:VTIMEZONE
BEGIN:VEVENT
DTSTART;VALUE=DATE:20240102
DTEND;VALUE=DATE:20240104
DTSTAMP:20260421T064332
CREATED:20230510T152953Z
LAST-MODIFIED:20230510T152953Z
UID:22947-1704157200-1704243599@explora.unab.cl
SUMMARY:Resultados PAES regular
DESCRIPTION:A partir de las 9:00 hrs\, podrás conocer tus resultados y prepararte para comenzar con el proceso de postulación a la universidad.
URL:https://explora.unab.cl/actividad/resultados-paes-regular/
CATEGORIES:Explora tu vocación,PAES
END:VEVENT
BEGIN:VEVENT
DTSTART;TZID=America/Santiago:20240102T100000
DTEND;TZID=America/Santiago:20240105T130000
DTSTAMP:20260421T064332
CREATED:20231227T131822Z
LAST-MODIFIED:20231227T131822Z
UID:23870-1704189600-1704459600@explora.unab.cl
SUMMARY:Semana de las Postulaciones UNAB
DESCRIPTION:Acércate a tu futura carrera en la Universidad Andrés Bello\, asiste a nuestra semana de postulaciones\, entre el 2 y 5 de enero. \nconoce toda la información aquí.
URL:https://explora.unab.cl/actividad/semana-de-las-postulaciones-unab-2/
CATEGORIES:Explora tu vocación,PAES
END:VEVENT
BEGIN:VEVENT
DTSTART;TZID=America/Santiago:20240117T080000
DTEND;TZID=America/Santiago:20240119T170000
DTSTAMP:20260421T064332
CREATED:20230510T155142Z
LAST-MODIFIED:20230510T155142Z
UID:22953-1705478400-1705683600@explora.unab.cl
SUMMARY:1° Etapa: Proceso de matrícula
DESCRIPTION:Si fuiste convocado\, recuerda que te debes matricular en esta primera etapa. Es muy importante que tengas claro\, que las instituciones sólo asegurarán la mantención de tu cupo por los tres días que dura la primera parte de este proceso; luego\, se asignará a las listas de espera.
URL:https://explora.unab.cl/actividad/1-etapa-proceso-de-matricula/
CATEGORIES:PAES
END:VEVENT
BEGIN:VEVENT
DTSTART;TZID=America/Santiago:20240120T080000
DTEND;TZID=America/Santiago:20240126T170000
DTSTAMP:20260421T064332
CREATED:20230510T161657Z
LAST-MODIFIED:20250306T153544Z
UID:22955-1705737600-1706288400@explora.unab.cl
SUMMARY:2° Etapa: Proceso de matrícula 2023
DESCRIPTION:Si quedaste en lista de espera\, hoy es el día en que debes revisar si obtuviste un cupo en tu universidad y carrera de preferencia y realizar el proceso de matrícula. \n 
URL:https://explora.unab.cl/actividad/2-etapa-proceso-de-matricula/
CATEGORIES:PAES
END:VEVENT
BEGIN:VEVENT
DTSTART;VALUE=DATE:20240125
DTEND;VALUE=DATE:20240127
DTSTAMP:20260421T064332
CREATED:20240105T130910Z
LAST-MODIFIED:20240105T130910Z
UID:23884-1706144400-1706230799@explora.unab.cl
SUMMARY:Publicación temarios PAES de Invierno
DESCRIPTION:Recuerda que sí este año rendirás la Prueba de Admisión a la Educación Superior (PAES) de invierno\, hoy estarán disponibles los temarios en la página de DEMRE
URL:https://explora.unab.cl/actividad/publicacion-temarios-paes-de-invierno/
CATEGORIES:Explora tu vocación,PAES,Preunab
END:VEVENT
END:VCALENDAR