BEGIN:VCALENDAR
VERSION:2.0
PRODID:-//Explora UNAB - ECPv6.15.9//NONSGML v1.0//EN
CALSCALE:GREGORIAN
METHOD:PUBLISH
X-ORIGINAL-URL:https://explora.unab.cl
X-WR-CALDESC:Eventos para Explora UNAB
REFRESH-INTERVAL;VALUE=DURATION:PT1H
X-Robots-Tag:noindex
X-PUBLISHED-TTL:PT1H
BEGIN:VTIMEZONE
TZID:America/Santiago
BEGIN:STANDARD
TZOFFSETFROM:-0300
TZOFFSETTO:-0400
TZNAME:-04
DTSTART:20230402T030000
END:STANDARD
BEGIN:DAYLIGHT
TZOFFSETFROM:-0400
TZOFFSETTO:-0300
TZNAME:-03
DTSTART:20230903T040000
END:DAYLIGHT
BEGIN:STANDARD
TZOFFSETFROM:-0300
TZOFFSETTO:-0400
TZNAME:-04
DTSTART:20240407T030000
END:STANDARD
BEGIN:DAYLIGHT
TZOFFSETFROM:-0400
TZOFFSETTO:-0300
TZNAME:-03
DTSTART:20240908T040000
END:DAYLIGHT
BEGIN:STANDARD
TZOFFSETFROM:-0300
TZOFFSETTO:-0400
TZNAME:-04
DTSTART:20250406T030000
END:STANDARD
BEGIN:DAYLIGHT
TZOFFSETFROM:-0400
TZOFFSETTO:-0300
TZNAME:-03
DTSTART:20250907T040000
END:DAYLIGHT
END:VTIMEZONE
BEGIN:VEVENT
DTSTART;TZID=America/Santiago:20240821T170000
DTEND;TZID=America/Santiago:20240821T180000
DTSTAMP:20260423T063600
CREATED:20240812T163427Z
LAST-MODIFIED:20240812T163427Z
UID:25725-1724259600-1724263200@explora.unab.cl
SUMMARY:Prepara la M1 con Preunab - Clase 1
DESCRIPTION:Participa en nuestras clases online y gratuitas\, que se realizarán a través de nuestro canal Youtube\, UNAB TV. \nA través de tres clases podrás reforzar los siguientes ejes temático de la PAES de Competencia Matemática 1: \n\nNúmeros\nÁlgebra\nGeometría\n\nRecuerda que toda la información y quizzes descargables\, los encuentras aquí.
URL:https://explora.unab.cl/actividad/prepara-la-m1-con-preunab-clase-1/
CATEGORIES:Preunab
END:VEVENT
BEGIN:VEVENT
DTSTART;TZID=America/Santiago:20240822T083000
DTEND;TZID=America/Santiago:20240822T140000
DTSTAMP:20260423T063600
CREATED:20240619T191944Z
LAST-MODIFIED:20240619T191944Z
UID:25077-1724315400-1724335200@explora.unab.cl
SUMMARY:VI Encuentro Mujeres en la Ciencia y Tecnología Biobío
DESCRIPTION:Inscríbete y participa en este encuentro que te acercará a tu futura carrera. Revisa toda la información aquí.
URL:https://explora.unab.cl/actividad/vi-encuentro-mujeres-en-la-ciencia-y-tecnologia-biobio/
LOCATION:UNAB Campus Concepción\, Autopista Concepción- Talcahuano 7100\, Concepción\, VIII Región\, Chile
CATEGORIES:Explora tu vocación
END:VEVENT
BEGIN:VEVENT
DTSTART;TZID=America/Santiago:20240823T083000
DTEND;TZID=America/Santiago:20240823T130000
DTSTAMP:20260423T063600
CREATED:20240619T191558Z
LAST-MODIFIED:20240619T191558Z
UID:25071-1724401800-1724418000@explora.unab.cl
SUMMARY:Explora la UNAB Viña del Mar
DESCRIPTION:Inscríbete y participa en nuestra tradicional casa abierta. Vive una experiencia que te acercará a tu futura carrera. Revisa toda la información aquí. \n 
URL:https://explora.unab.cl/actividad/explora-la-unab-vina-del-mar-3/
LOCATION:UNAB Viña del Mar\, Quillota 980\, Viña del Mar\, Chile
CATEGORIES:Explora la UNAB
END:VEVENT
BEGIN:VEVENT
DTSTART;TZID=America/Santiago:20240828T170000
DTEND;TZID=America/Santiago:20240828T180000
DTSTAMP:20260423T063600
CREATED:20240812T163520Z
LAST-MODIFIED:20240812T163520Z
UID:25727-1724864400-1724868000@explora.unab.cl
SUMMARY:Prepara la M1 con Preunab - Clase 2
DESCRIPTION:Participa en nuestras clases online y gratuitas\, que se realizarán a través de nuestro canal Youtube\, UNAB TV. \nA través de tres clases podrás reforzar los siguientes ejes temático de la PAES de Competencia Matemática 1: \n\nNúmeros\nÁlgebra\nGeometría\n\nRecuerda que toda la información y quizzes descargables\, los encuentras aquí.
URL:https://explora.unab.cl/actividad/prepara-la-m1-con-preunab-clase-2/
CATEGORIES:Preunab
END:VEVENT
END:VCALENDAR