BEGIN:VCALENDAR
VERSION:2.0
PRODID:-//Explora UNAB - ECPv6.15.9//NONSGML v1.0//EN
CALSCALE:GREGORIAN
METHOD:PUBLISH
X-ORIGINAL-URL:https://explora.unab.cl
X-WR-CALDESC:Eventos para Explora UNAB
REFRESH-INTERVAL;VALUE=DURATION:PT1H
X-Robots-Tag:noindex
X-PUBLISHED-TTL:PT1H
BEGIN:VTIMEZONE
TZID:America/Santiago
BEGIN:STANDARD
TZOFFSETFROM:-0300
TZOFFSETTO:-0400
TZNAME:-04
DTSTART:20240407T030000
END:STANDARD
BEGIN:DAYLIGHT
TZOFFSETFROM:-0400
TZOFFSETTO:-0300
TZNAME:-03
DTSTART:20240908T040000
END:DAYLIGHT
BEGIN:STANDARD
TZOFFSETFROM:-0300
TZOFFSETTO:-0400
TZNAME:-04
DTSTART:20250406T030000
END:STANDARD
BEGIN:DAYLIGHT
TZOFFSETFROM:-0400
TZOFFSETTO:-0300
TZNAME:-03
DTSTART:20250907T040000
END:DAYLIGHT
BEGIN:STANDARD
TZOFFSETFROM:-0300
TZOFFSETTO:-0400
TZNAME:-04
DTSTART:20260405T030000
END:STANDARD
BEGIN:DAYLIGHT
TZOFFSETFROM:-0400
TZOFFSETTO:-0300
TZNAME:-03
DTSTART:20260906T040000
END:DAYLIGHT
END:VTIMEZONE
BEGIN:VEVENT
DTSTART;VALUE=DATE:20250304
DTEND;VALUE=DATE:20250727
DTSTAMP:20260421T052843
CREATED:20250507T154546Z
LAST-MODIFIED:20250702T212540Z
UID:29096-1741050000-1753491599@explora.unab.cl
SUMMARY:Inscripciones: 6° Interescolar de Detectives Moleculares
DESCRIPTION:Si te interesa este interescolar\, encuentra toda la información en: \n6° Interescolar de Detectives Moleculares – Ingeniería en Biotecnología
URL:https://explora.unab.cl/actividad/inscripciones-6-interescolar-de-detectives-moleculares-ingenieria-en-biotecnologia/
CATEGORIES:Interescolares
END:VEVENT
BEGIN:VEVENT
DTSTART;TZID=America/Santiago:20250304T080000
DTEND;TZID=America/Santiago:20250725T170000
DTSTAMP:20260421T052843
CREATED:20250507T161420Z
LAST-MODIFIED:20250507T161420Z
UID:29102-1741075200-1753462800@explora.unab.cl
SUMMARY:Inscripciones: 11º Interescolar de Spelling Bee Santiago
DESCRIPTION:Encuentra toda la información aquí: 11º Interescolar de Spelling Bee Santiago
URL:https://explora.unab.cl/actividad/inscripciones-11o-interescolar-de-spelling-bee-santiago/
CATEGORIES:Interescolares
END:VEVENT
BEGIN:VEVENT
DTSTART;TZID=America/Santiago:20250718T090000
DTEND;TZID=America/Santiago:20250718T170000
DTSTAMP:20260421T052843
CREATED:20250326T185646Z
LAST-MODIFIED:20250326T185646Z
UID:28824-1752829200-1752858000@explora.unab.cl
SUMMARY:Resultados PAES de invierno
DESCRIPTION:Si rendista la PAES de invierno\, este es el día! recuerda revisar tus puntajes
URL:https://explora.unab.cl/actividad/resultados-paes-de-invierno-2/
END:VEVENT
BEGIN:VEVENT
DTSTART;TZID=America/Santiago:20250723T130000
DTEND;TZID=America/Santiago:20250723T130000
DTSTAMP:20260421T052843
CREATED:20250326T184928Z
LAST-MODIFIED:20250715T220306Z
UID:28816-1753275600-1753275600@explora.unab.cl
SUMMARY:Cierre de inscripciones: PAES regular
DESCRIPTION:Tienes hasta las 13:00 hrs para inscribirte y rendir la PAES regular. Si tienes dudas\, recuerda revisar el sitio del DEMRE.  También\, para más orientación\, revisa en nuestro sitio por más ayuda. \nAdemás\, puedes preparar la PAES de forma gratuita en nuestro preuniversitario online.
URL:https://explora.unab.cl/actividad/cierre-de-inscripciones-paes-regular/
CATEGORIES:PAES
END:VEVENT
END:VCALENDAR